BEGIN:VCALENDAR
VERSION:2.0
PRODID:-//ChamberMaster//Event Calendar 2.0//EN
METHOD:PUBLISH
X-PUBLISHED-TTL:P3D
REFRESH-INTERVAL:P3D
CALSCALE:GREGORIAN
BEGIN:VEVENT
DTSTART:20220406T140000Z
DTEND:20220406T143000Z
X-MICROSOFT-CDO-ALLDAYEVENT:FALSE
SUMMARY:Books & Beyond Storytime
DESCRIPTION:Children and their caregivers can come to the library once a week on Mondays or Wednesdays for stories\, songs and smiles!\n\nStorytime has been crafted for children 5 and under\, but all ages are welcome. Pandemic safety guidelines will be followed.
X-ALT-DESC;FMTTYPE=text/html:<p>Children and their caregivers can come to the library once a week on Mondays or Wednesdays for stories\, songs and smiles!<br />\nStorytime has been crafted for children 5 and under\, but all ages are welcome. Pandemic safety guidelines will be followed.</p>\n
LOCATION:615 Phillips Blvd Sauk City\, WI 53583
UID:e.1184.27179
SEQUENCE:3
DTSTAMP:20260421T134045Z
URL:http://members.saukprairie.com/events/details/books-beyond-storytime-04-06-2022-27179
END:VEVENT

END:VCALENDAR
