BEGIN:VCALENDAR
VERSION:2.0
PRODID:-//ChamberMaster//Event Calendar 2.0//EN
METHOD:PUBLISH
X-PUBLISHED-TTL:P3D
REFRESH-INTERVAL:P3D
CALSCALE:GREGORIAN
BEGIN:VEVENT
DTSTART:20200422T140000Z
DTEND:20200422T143000Z
X-MICROSOFT-CDO-ALLDAYEVENT:FALSE
SUMMARY:Books & Beyond Storytime
DESCRIPTION:Stories\, songs\, and crafts are offered to children ages 5 and younger attended by a caregiver. Older siblings are also welcome. Sessions will be approximately 30 minutes.
X-ALT-DESC;FMTTYPE=text/html:<p><span style="font-family:arial\; font-size:11pt">Stories\, songs\, and crafts are offered to children ages 5 and younger attended by a caregiver. Older siblings are also welcome. Sessions will be approximately 30 minutes.</span></p>\n
LOCATION:515 Water St. Sauk City\, WI
UID:e.1184.23809
SEQUENCE:3
DTSTAMP:20260423T024606Z
URL:http://members.saukprairie.com/events/details/books-beyond-storytime-04-22-2020-23809
END:VEVENT

END:VCALENDAR
