BEGIN:VCALENDAR
VERSION:2.0
PRODID:-//ChamberMaster//Event Calendar 2.0//EN
METHOD:PUBLISH
X-PUBLISHED-TTL:P3D
REFRESH-INTERVAL:P3D
CALSCALE:GREGORIAN
BEGIN:VEVENT
DTSTART:20170925T150000Z
DTEND:20170925T154500Z
X-MICROSOFT-CDO-ALLDAYEVENT:FALSE
SUMMARY:Books & Beyond Storytime
DESCRIPTION:Fall Session: September 11   November 15\n\nSpecial locations for Wednesdays in September: \n\nSept. 13 @ Sauk City Fire Dept.\n\nSept. 20 @ The Mixing Bowl\n\nSept. 27 @ Carr Valley Cheese\n\nStories\, songs\, and activities are offered to children ages 5 and younger with their caregiver in the library's lower level. Sessions last approximately 40 minutes. Stories and songs last 20 minutes followed by 20 minutes of various activities. Stick around on Wednesdays for Open Play until 11:00 a.m.
X-ALT-DESC;FMTTYPE=text/html:<p><strong>Fall Session:&nbsp\;</strong><strong><em>September 11 &ndash\; November 15</em></strong></p>\n\n<p><em>Special locations for Wednesdays in September:&nbsp\;</em><br />\n<em>Sept. 13 @ Sauk City Fire Dept.</em></p>\n\n<p><em>Sept. 20 @ The Mixing Bowl</em></p>\n\n<p><em>Sept. 27 @ Carr Valley Cheese</em></p>\n\n<p>Stories\, songs\, and activities are offered to children ages 5 and younger with their caregiver in the library&#39\;s lower level. Sessions last approximately 40 minutes. Stories and songs last 20 minutes followed by 20 minutes of various activities. Stick around on Wednesdays for Open Play until 11:00 a.m.</p>\n
LOCATION:Sauk City Public Library (Children's Room\, Lower Level) 515 Water St. Sauk City\, WI
UID:e.1184.12897
SEQUENCE:3
DTSTAMP:20260425T000357Z
URL:http://members.saukprairie.com/events/details/books-beyond-storytime-09-25-2017-12897
END:VEVENT

END:VCALENDAR
