BEGIN:VCALENDAR
VERSION:2.0
PRODID:-//ChamberMaster//Event Calendar 2.0//EN
METHOD:PUBLISH
X-PUBLISHED-TTL:P3D
REFRESH-INTERVAL:P3D
CALSCALE:GREGORIAN
BEGIN:VEVENT
DTSTART:20191002T140000Z
DTEND:20191002T143000Z
X-MICROSOFT-CDO-ALLDAYEVENT:FALSE
SUMMARY:Books & Beyond Storytime
DESCRIPTION:Stories\, songs\, and activities are offered to children ages 5 and younger along with their caregiver in the library's lower level. Sessions last approximately 30 minutes.
X-ALT-DESC;FMTTYPE=text/html:<p>Stories\, songs\, and activities are offered to children ages 5 and younger along with their caregiver in the library&#39\;s lower level. Sessions last approximately 30 minutes.</p>\n
LOCATION:515 Water St. Sauk City\, WI
UID:e.1184.22676
SEQUENCE:3
DTSTAMP:20260423T095504Z
URL:http://members.saukprairie.com/events/details/books-beyond-storytime-10-02-2019-22676
END:VEVENT

END:VCALENDAR
