BEGIN:VCALENDAR
VERSION:2.0
PRODID:-//ChamberMaster//Event Calendar 2.0//EN
METHOD:PUBLISH
X-PUBLISHED-TTL:P3D
REFRESH-INTERVAL:P3D
CALSCALE:GREGORIAN
BEGIN:VEVENT
DTSTART:20191007T150000Z
DTEND:20191007T160000Z
X-MICROSOFT-CDO-ALLDAYEVENT:FALSE
SUMMARY:Books & Beyond Storytime
DESCRIPTION:Stories\, songs\, and activities are offered to children ages 5 and younger with their caregiver in the library's lower level. Sessions last approximately 30 minutes.
X-ALT-DESC;FMTTYPE=text/html:Stories\, songs\, and activities are offered to children ages 5 and younger with their caregiver in the library&#39\;s lower level. Sessions last approximately 30 minutes.
LOCATION:515 Water St. Sauk City\, WI
UID:e.1184.22663
SEQUENCE:3
DTSTAMP:20260423T095506Z
URL:http://members.saukprairie.com/events/details/books-beyond-storytime-10-07-2019-22663
END:VEVENT

END:VCALENDAR
