BEGIN:VCALENDAR
VERSION:2.0
PRODID:-//ChamberMaster//Event Calendar 2.0//EN
METHOD:PUBLISH
X-PUBLISHED-TTL:P3D
REFRESH-INTERVAL:P3D
CALSCALE:GREGORIAN
BEGIN:VEVENT
DTSTART:20161128T150000Z
DTEND:20161128T154500Z
X-MICROSOFT-CDO-ALLDAYEVENT:FALSE
SUMMARY:Books & Beyond Storytime
DESCRIPTION:Stories\, songs\, and activities are offered to children ages 5 and younger with their caregiver in the library's lower level. Sessions last approximately 45 minutes. Stories and songs take the first 25 minutes with 20 minutes of various activities.
X-ALT-DESC;FMTTYPE=text/html:<p>Stories\, songs\, and activities are offered to children ages 5 and younger with their caregiver in the library&#39\;s lower level. Sessions last approximately 45 minutes. Stories and songs take the first 25 minutes with 20 minutes of various activities.</p>\n
LOCATION:Sauk City Public Library (Children's Room\, Lower Level) 515 Water St. Sauk City\, WI
UID:e.1184.9324
SEQUENCE:3
DTSTAMP:20260425T160956Z
URL:http://members.saukprairie.com/events/details/books-beyond-storytime-11-28-2016-9324
END:VEVENT

END:VCALENDAR
