BEGIN:VCALENDAR
VERSION:2.0
PRODID:-//ChamberMaster//Event Calendar 2.0//EN
METHOD:PUBLISH
X-PUBLISHED-TTL:P3D
REFRESH-INTERVAL:P3D
CALSCALE:GREGORIAN
BEGIN:VEVENT
DTSTART:20221201T000000Z
DTEND:20221201T010000Z
X-MICROSOFT-CDO-ALLDAYEVENT:FALSE
SUMMARY:#BookTok Book Club
DESCRIPTION:Teens are invited to come for our new #BookTok book club! Each month we will read and discuss a popular #BookTok title. Copies of the book are available in the teen loft. After we finish discussing the book everyone will get book related snacks. All teens are welcome! This month's title is the Inheritance Games by Jennifer Lynn Barnes.
X-ALT-DESC;FMTTYPE=text/html:Teens are invited to come for our new #BookTok book club! Each month we will read and discuss a popular #BookTok title. Copies of the book are available in the teen loft. After we finish discussing the book everyone will get book related snacks. All teens are welcome! This month&rsquo\;s title is the Inheritance Games by Jennifer Lynn Barnes.
LOCATION:615 Phillips Blvd\, Sauk City\, WI 53583
UID:e.1184.28771
SEQUENCE:3
DTSTAMP:20260421T033659Z
URL:http://members.saukprairie.com/events/details/booktok-book-club-11-30-2022-28771
END:VEVENT

END:VCALENDAR
