BEGIN:VCALENDAR
VERSION:2.0
PRODID:-//ChamberMaster//Event Calendar 2.0//EN
METHOD:PUBLISH
X-PUBLISHED-TTL:P3D
REFRESH-INTERVAL:P3D
CALSCALE:GREGORIAN
BEGIN:VEVENT
DTSTART:20220928T230000Z
DTEND:20220929T000000Z
X-MICROSOFT-CDO-ALLDAYEVENT:FALSE
SUMMARY:#BookTok Book Club
DESCRIPTION:Teens are invited to come on the fourth Wednesday of each month for our new #BookTok book club! Each month we will read and discuss a popular #BookTok title. Copies of the book are available in the teen loft. After we finish discussing the book everyone will get book related snacks. All teens are welcome!\n\nThis month's title is All of Us Villains by Amanda Foody and Christine Lynn.
X-ALT-DESC;FMTTYPE=text/html:Teens are invited to come on the fourth Wednesday of each month for our new #BookTok book club! Each month we will read and discuss a popular #BookTok title. Copies of the book are available in the teen loft. After we finish discussing the book everyone will get book related snacks. All teens are welcome!<br />\nThis month&rsquo\;s title is All of Us Villains by Amanda Foody and Christine Lynn.
LOCATION:615 Phillips Blvd Sauk City\, WI 53583
UID:e.1184.28675
SEQUENCE:3
DTSTAMP:20260421T073647Z
URL:http://members.saukprairie.com/events/details/booktok-book-club-28675
END:VEVENT

END:VCALENDAR
