BEGIN:VCALENDAR
VERSION:2.0
PRODID:-//ChamberMaster//Event Calendar 2.0//EN
METHOD:PUBLISH
X-PUBLISHED-TTL:P3D
REFRESH-INTERVAL:P3D
CALSCALE:GREGORIAN
BEGIN:VEVENT
DTSTART;VALUE=DATE:20190622
DTEND;VALUE=DATE:20190623
TRANSP:TRANSPARENT
X-MICROSOFT-CDO-ALLDAYEVENT:TRUE
SUMMARY:Boot Camps in the Park
DESCRIPTION:Get your sweat on this summer with FREE boot camps in the park.\n\n\n\nOpen to all adults\n\nNo Anytime Fitness membership required\n\n\n\nRegister at Anytime Fitness or call the community center 643-8386
X-ALT-DESC;FMTTYPE=text/html:Get your sweat on this summer with FREE boot camps in the park.<br />\n<br />\nOpen to all adults<br />\nNo Anytime Fitness membership required<br />\n<br />\nRegister at Anytime Fitness or call the community center 643-8386
LOCATION:Westwynde Park
UID:e.1184.22484
SEQUENCE:3
DTSTAMP:20260423T153551Z
URL:http://members.saukprairie.com/events/details/boot-camps-in-the-park-06-22-2019-22484
END:VEVENT

END:VCALENDAR
