BEGIN:VCALENDAR
VERSION:2.0
PRODID:-//ChamberMaster//Event Calendar 2.0//EN
METHOD:PUBLISH
X-PUBLISHED-TTL:P3D
REFRESH-INTERVAL:P3D
CALSCALE:GREGORIAN
BEGIN:VEVENT
DTSTART;VALUE=DATE:20160924
DTEND;VALUE=DATE:20160925
TRANSP:TRANSPARENT
X-MICROSOFT-CDO-ALLDAYEVENT:TRUE
SUMMARY:BOOTCAMP
DESCRIPTION:Zefit Boot Camp Class | Saturday\, September 24th at 9am\n\n\n\n$15 per person\n\n\n\nTwo class types available for beginner and intermediate - contact Zefit to get signed up for the class at 608.370.1720\n\n\n\n50% of proceeds go towards the Alzheimer's Association\n\n\n\nEvery participant receives an entry into a prize to be raffled which includes both of the following:\n\n- Free 33 month membership at Zefite\n\n- Unlimited Package ($375 value) to be used towards classes offered at Zefit
X-ALT-DESC;FMTTYPE=text/html:Zefit Boot Camp Class | Saturday\, September 24th at 9am<br />\n<br />\n$15 per person<br />\n<br />\nTwo class types available for beginner and intermediate - contact Zefit to get signed up for the class at 608.370.1720<br />\n<br />\n50% of proceeds go towards the Alzheimer&#39\;s Association<br />\n<br />\nEvery participant receives an entry into a prize to be raffled which includes both of the following:<br />\n- Free 33 month membership at Zefite<br />\n- Unlimited Package ($375 value) to be used towards classes offered at Zefit
LOCATION:
UID:e.1184.9375
SEQUENCE:3
DTSTAMP:20260425T191859Z
URL:http://members.saukprairie.com/events/details/bootcamp-9375
END:VEVENT

END:VCALENDAR
