BEGIN:VCALENDAR
VERSION:2.0
PRODID:-//ChamberMaster//Event Calendar 2.0//EN
METHOD:PUBLISH
X-PUBLISHED-TTL:P3D
REFRESH-INTERVAL:P3D
CALSCALE:GREGORIAN
BEGIN:VEVENT
DTSTART:20181201T200000Z
DTEND:20181201T230000Z
X-MICROSOFT-CDO-ALLDAYEVENT:FALSE
SUMMARY:Bowling with Santa
DESCRIPTION:Bring the kids down to bowl with Santa! \n\n\n\nCost is $20 per hour:\n\n	1 hour of bowling \n	Picture with Santa\n	Hot Chocolate and Cookies\n	Bring in a non-perishable food item for the food pantry and receive free shoe rental\n\nReserve your lane Today!
X-ALT-DESC;FMTTYPE=text/html:Bring the kids down to bowl with Santa!&nbsp\;<br />\n<br />\nCost is $20 per hour:\n<ul>\n	<li>1 hour of bowling&nbsp\;</li>\n	<li>Picture with Santa</li>\n	<li>Hot Chocolate and Cookies</li>\n	<li>Bring in a non-perishable food item for the food pantry and receive free shoe rental</li>\n</ul>\n<strong><em>Reserve your lane Today!&nbsp\;&nbsp\;</em></strong>
LOCATION:Riveria Bowl
UID:e.1184.21465
SEQUENCE:3
DTSTAMP:20260424T003114Z
URL:http://members.saukprairie.com/events/details/bowling-with-santa-21465
END:VEVENT

END:VCALENDAR
