BEGIN:VCALENDAR
VERSION:2.0
PRODID:-//ChamberMaster//Event Calendar 2.0//EN
METHOD:PUBLISH
X-PUBLISHED-TTL:P3D
REFRESH-INTERVAL:P3D
CALSCALE:GREGORIAN
BEGIN:VEVENT
DTSTART:20230325T140000Z
DTEND:20230325T200000Z
X-MICROSOFT-CDO-ALLDAYEVENT:FALSE
SUMMARY:Brat Stand @ Piggly Wiggly
DESCRIPTION:Fundraiser for Witwen Concerts! Join us at the Sauk City Piggly Wiggly parking lot on Friday\, March 24th and Saturday\, March 25th from 9:00am - 3:00pm. Serving brats\, hotdogs\, hamburgers\, cheeseburgers\, chips\, and soda.
X-ALT-DESC;FMTTYPE=text/html:Fundraiser for Witwen Concerts!&nbsp\;Join us at the Sauk City Piggly Wiggly parking lot on Friday\, March 24th and Saturday\, March 25th from 9:00am - 3:00pm. Serving brats\, hotdogs\, hamburgers\, cheeseburgers\, chips\, and soda.&nbsp\;
LOCATION:Piggly Wiggly 724 Phillips Blvd Sauk City\, WI 53583
UID:e.1184.30678
SEQUENCE:3
DTSTAMP:20260420T164834Z
URL:http://members.saukprairie.com/events/details/brat-stand-piggly-wiggly-30678
END:VEVENT

END:VCALENDAR
