BEGIN:VCALENDAR
VERSION:2.0
PRODID:-//ChamberMaster//Event Calendar 2.0//EN
METHOD:PUBLISH
X-PUBLISHED-TTL:P3D
REFRESH-INTERVAL:P3D
CALSCALE:GREGORIAN
BEGIN:VEVENT
DTSTART:20200912T140000Z
DTEND:20200912T190000Z
X-MICROSOFT-CDO-ALLDAYEVENT:FALSE
SUMMARY:Brats & Other Item Sale benefiting Sauk Prairie Pantry
DESCRIPTION:Brats & Stuff Sale benefiting Sauk Prairie Food Pantry\n\nSept. 12\, 2020        9 am to 2 pm\n\nAt: Bonham Theatre & Video        564 Water Street\, Prairie du Sac
X-ALT-DESC;FMTTYPE=text/html:<strong><span style="color:#26282A\;"><span style="font-family:arial black\,sans-serif\;"><span style="font-size:22.0pt\;">Brats &amp\; Stuff Sale</span></span></span></strong><strong><span style="color:#26282A\;"><span style="font-family:papyrus\;"><span style="font-size:20.0pt\;"> benefiting&nbsp\;Sauk Prairie Food Pantry</span></span></span></strong><br />\n<span style="color:#26282A\;"><span style="font-family:arial black\,sans-serif\;"><span style="font-size:20.0pt\;">Sept. 12\, 2020&nbsp\;&nbsp\; &nbsp\;&nbsp\;&nbsp\;&nbsp\; </span></span></span><strong><span style="color:#262626\;"><span style="font-family:arial black\,sans-serif\;"><span style="font-size:20.0pt\;">9 am to 2 pm</span></span></span></strong><br />\n<span style="color:#26282A\;"><span style="font-family:arial black\,sans-serif\;"><span style="font-size:22.0pt\;">At: </span></span></span><strong><span style="color:#26282A\;"><span style="font-family:papyrus\;"><span style="font-size:20.0pt\;">Bonham Theatre &amp\; Video&nbsp\; &nbsp\; &nbsp\; &nbsp\;&nbsp\;</span></span></span></strong><strong><span style="color:#26282A\;"><span style="font-family:papyrus\;"><span style="font-size:16.0pt\;">564 Water Street</span></span></span></strong><strong><span style="color:#26282A\;"><span style="font-family:papyrus\;"><span style="font-size:14.0pt\;">\, Prairie du Sac</span></span></span></strong>
LOCATION:
UID:e.1184.26094
SEQUENCE:3
DTSTAMP:20260422T165654Z
URL:http://members.saukprairie.com/events/details/brats-other-item-sale-benefiting-sauk-prairie-pantry-26094
END:VEVENT

END:VCALENDAR
