BEGIN:VCALENDAR
VERSION:2.0
PRODID:-//ChamberMaster//Event Calendar 2.0//EN
METHOD:PUBLISH
X-PUBLISHED-TTL:P3D
REFRESH-INTERVAL:P3D
CALSCALE:GREGORIAN
BEGIN:VEVENT
DTSTART:20230624T133000Z
DTEND:20230624T163000Z
X-MICROSOFT-CDO-ALLDAYEVENT:FALSE
SUMMARY:Breakfast in the Park
DESCRIPTION:Breakfast in the Park\n\nMeyer Oak Park Market\n\nSaturday\, June 10th & 24th 8:30 - 11:30 am\n\nMenu:\n\nPancakes\n\nPork Links\n\nString cheese\n\nFresh Fruit\n\nBeverage\n\n\n\nAdult: $10     Small Plate:  $7
X-ALT-DESC;FMTTYPE=text/html:Breakfast in the Park<br />\nMeyer Oak Park Market<br />\nSaturday\, June 10th &amp\; 24th 8:30 - 11:30 am<br />\nMenu:<br />\nPancakes<br />\nPork Links<br />\nString cheese<br />\nFresh Fruit<br />\nBeverage<br />\n<br />\nAdult: $10&nbsp\; &nbsp\; &nbsp\;Small Plate:&nbsp\; $7<br />\n&nbsp\;
LOCATION:Meyer Oak Park Market\, Phillips Boulevard\, Sauk City
UID:e.1184.30858
SEQUENCE:3
DTSTAMP:20260420T131944Z
URL:http://members.saukprairie.com/events/details/breakfast-in-the-park-06-24-2023-30858
END:VEVENT

END:VCALENDAR
