BEGIN:VCALENDAR
VERSION:2.0
PRODID:-//ChamberMaster//Event Calendar 2.0//EN
METHOD:PUBLISH
X-PUBLISHED-TTL:P3D
REFRESH-INTERVAL:P3D
CALSCALE:GREGORIAN
BEGIN:VEVENT
DTSTART:20180320T130000Z
DTEND:20180320T143000Z
X-MICROSOFT-CDO-ALLDAYEVENT:FALSE
SUMMARY:Breakfast Seminar: Developing a Culture of Hospitality Session #1
DESCRIPTION:Developing a Culture of Hospitality! It starts within\, presented by Drew Nussbaum with the Wisconsin Department of Tourism
X-ALT-DESC;FMTTYPE=text/html:<span style="font-family:calibri\,sans-serif\;"><span style="font-size:11.0pt\;">Developing a Culture of Hospitality! It starts within\, presented by Drew Nussbaum with the Wisconsin Department of Tourism</span></span>
LOCATION:Compeer Financial 1430 North Ridge Drive Prairie du Sac\, WI 53578
UID:e.1184.13997
SEQUENCE:3
DTSTAMP:20260424T144818Z
URL:http://members.saukprairie.com/events/details/breakfast-seminar-developing-a-culture-of-hospitality-session-1-13997
END:VEVENT

END:VCALENDAR
