BEGIN:VCALENDAR
VERSION:2.0
PRODID:-//ChamberMaster//Event Calendar 2.0//EN
METHOD:PUBLISH
X-PUBLISHED-TTL:P3D
REFRESH-INTERVAL:P3D
CALSCALE:GREGORIAN
BEGIN:VEVENT
DTSTART:20180515T130000Z
DTEND:20180515T143000Z
X-MICROSOFT-CDO-ALLDAYEVENT:FALSE
SUMMARY:Breakfast Seminar: First Impressions...Session #1
DESCRIPTION:First Impressions...What yours says to your guests and employees\, presented by Drew Nussbaum w/the Department of Tourism.
X-ALT-DESC;FMTTYPE=text/html:First Impressions...What yours says to your guests and employees\, presented by Drew Nussbaum w/the Department of Tourism.&nbsp\;&nbsp\;
LOCATION:Compeer Financial 1430 North Ridge Dr. Prairie du Sac\, WI 53578
UID:e.1184.14005
SEQUENCE:3
DTSTAMP:20260424T111957Z
URL:http://members.saukprairie.com/events/details/breakfast-seminar-first-impressions-session-1-14005
END:VEVENT

END:VCALENDAR
