BEGIN:VCALENDAR
VERSION:2.0
PRODID:-//ChamberMaster//Event Calendar 2.0//EN
METHOD:PUBLISH
X-PUBLISHED-TTL:P3D
REFRESH-INTERVAL:P3D
CALSCALE:GREGORIAN
BEGIN:VEVENT
DTSTART:20191208T140000Z
DTEND:20191208T180000Z
X-MICROSOFT-CDO-ALLDAYEVENT:FALSE
SUMMARY:Breakfast with Santa
DESCRIPTION:Bring the kids to breakfast with Santa! Eat fresh from the griddle pancakes\, farm fresh egg bake\, locally made sausages. Shop the book fair. Be a raffle winner: cash and other prizes. Holiday baked goods by the pound. Sinsinawa bread.
X-ALT-DESC;FMTTYPE=text/html:Bring the kids to breakfast with Santa! Eat fresh from the griddle pancakes\, farm fresh egg bake\, locally made sausages. Shop the book fair. Be a raffle winner: cash and other prizes. Holiday baked goods by the pound. Sinsinawa bread.
LOCATION:St. Aloysius School
UID:e.1184.23626
SEQUENCE:3
DTSTAMP:20260423T070211Z
URL:http://members.saukprairie.com/events/details/breakfast-with-santa-23626
END:VEVENT

END:VCALENDAR
