BEGIN:VCALENDAR
VERSION:2.0
PRODID:-//ChamberMaster//Event Calendar 2.0//EN
METHOD:PUBLISH
X-PUBLISHED-TTL:P3D
REFRESH-INTERVAL:P3D
CALSCALE:GREGORIAN
BEGIN:VEVENT
DTSTART:20221204T140000Z
DTEND:20221204T180000Z
X-MICROSOFT-CDO-ALLDAYEVENT:FALSE
SUMMARY:Breakfast With Santa - St. Al's School
DESCRIPTION:A holiday tradition! You're invited to St. Al's Annual Breakfast With Santa on Sunday December 4th\, 8am-Noon in the St. Aloysius School gym. Enjoy a delicious all-you-can-eat breakfast with farm fresh egg bake\, direct from the griddle pancakes\, sausages and more. Bring your camera for Free photo opportunities with Santa\, a Cookie Walk with an amazing selection of Christmas cookies for purchase\, Raffle Table\, book fair and more.\n\nTickets for the all-you-can-eat breakfast are sold at the event. (Admission is free for all other events.)\n\nBreakfast: Adults $10. Children ages 5-10 yrs $5. Under 5 yrs Free.
X-ALT-DESC;FMTTYPE=text/html:<div>A holiday tradition! You&#39\;re invited to St. Al&#39\;s Annual Breakfast With Santa on Sunday December 4th\, 8am-Noon in the St. Aloysius School gym. Enjoy a delicious all-you-can-eat breakfast with farm fresh egg bake\, direct from the griddle pancakes\, sausages and more. Bring your camera for Free photo opportunities with Santa\, a Cookie Walk with an amazing selection of Christmas cookies for purchase\, Raffle Table\, book fair and more.</div>\n\n<p>Tickets for the all-you-can-eat breakfast are sold at the event. (Admission is free for all other events.)<br />\nBreakfast: Adults $10. Children ages 5-10 yrs $5. Under 5 yrs Free.</p>\n
LOCATION:St. Aloysius School Gym 608 Oak Street Sauk City WI 53583
UID:e.1184.29276
SEQUENCE:3
DTSTAMP:20260421T004012Z
URL:http://members.saukprairie.com/events/details/breakfast-with-santa-st-al-s-school-29276
END:VEVENT

END:VCALENDAR
