BEGIN:VCALENDAR
VERSION:2.0
PRODID:-//ChamberMaster//Event Calendar 2.0//EN
METHOD:PUBLISH
X-PUBLISHED-TTL:P3D
REFRESH-INTERVAL:P3D
CALSCALE:GREGORIAN
BEGIN:VEVENT
DTSTART:20231206T220000Z
DTEND:20231206T230000Z
X-MICROSOFT-CDO-ALLDAYEVENT:FALSE
SUMMARY:Breathe\, Stretch\, Relax with Jenn Morea
DESCRIPTION:Breathe\, Stretch\, Relax with Jenn Morea\n\n\n\n\nWednesdays\, November 29\, December 6\, and December 13\, 2023 | 4-5p all three days\n\nDeadline to register: Nov 22\, 2023\n\n$70\n\nAges 16+\n\n\n\n\n\nLearn about the physical and mental health benefits of breathing slowly and deeply\, as well as sitting and movement meditation methods\, and how to establish a simple daily practice to experience more calm in your life. This class provides tools to ease tension in the body and mind and is a great way to bring the year to a close and prepare for the new year ahead. Participants are encouraged to wear comfortable clothing.
X-ALT-DESC;FMTTYPE=text/html:<p><strong>Breathe\, Stretch\, Relax with Jenn Morea</strong></p>\n\n<div>\n<div>\n<div>\n<p><strong>Wednesdays\, November 29\, December 6\, and December 13\, 2023 | 4-5p all three days</strong></p>\n\n<p>Deadline to register: Nov 22\, 2023</p>\n\n<p><strong>$</strong>70</p>\n\n<p><strong>Ages 16+</strong></p>\n</div>\n</div>\n</div>\n\n<div>\n<p><span style="font-family:arial\,sans-serif">Learn about the physical and mental health benefits of breathing slowly and deeply\, as well as sitting and movement meditation methods\, and how to establish a simple daily practice to experience more calm in your life. This class provides tools to ease tension in the body and mind and is a great way to bring the year to a close and prepare for the new year ahead.&nbsp\;</span>Participants are encouraged to wear comfortable&nbsp\;clothing.</p>\n</div>\n
LOCATION:590 Water Street\, Prairie du Sac\, WI
UID:e.1184.30988
SEQUENCE:3
DTSTAMP:20260420T033154Z
URL:http://members.saukprairie.com/events/details/breathe-stretch-relax-with-jenn-morea-12-06-2023-30988
END:VEVENT

END:VCALENDAR
