BEGIN:VCALENDAR
VERSION:2.0
PRODID:-//ChamberMaster//Event Calendar 2.0//EN
METHOD:PUBLISH
X-PUBLISHED-TTL:P3D
REFRESH-INTERVAL:P3D
CALSCALE:GREGORIAN
BEGIN:VEVENT
DTSTART:20180909T150000Z
DTEND:20180909T180000Z
X-MICROSOFT-CDO-ALLDAYEVENT:FALSE
SUMMARY:Brewery Brunch
DESCRIPTION:Starting at 10 a.m.\, head to the Vintage beer garden to grab a beer\, enjoy a breakfast pastry and listen to live music! Mix and mingle with other guests while enjoying stations of delectable brunch foods expertly prepared by Chef Casey.\n\n\n\nBrunch will be accompanied by chef demos\, beer pairings and coffee from True Coffee. \n\n\n\nAnd don't miss the brewery tours\, with a discussion on Vintage Brewing Company's history and process of brewing.
X-ALT-DESC;FMTTYPE=text/html:<span style="color: rgb(29\, 33\, 41)\; font-family: Helvetica\, Arial\, sans-serif\; font-size: 14px\; background-color: rgb(255\, 255\, 255)\;">Starting at 10 a.m.\, head to the Vintage beer garden to grab a beer\, enjoy a breakfast pastry and listen to live music! Mix and mingle with other guests while enjoying stations of delectable brunch foods expertly prepared by Chef Casey.</span><br style="color: rgb(29\, 33\, 41)\; font-family: Helvetica\, Arial\, sans-serif\; font-size: 14px\; background-color: rgb(255\, 255\, 255)\;" />\n<br style="color: rgb(29\, 33\, 41)\; font-family: Helvetica\, Arial\, sans-serif\; font-size: 14px\; background-color: rgb(255\, 255\, 255)\;" />\n<span style="color: rgb(29\, 33\, 41)\; font-family: Helvetica\, Arial\, sans-serif\; font-size: 14px\; background-color: rgb(255\, 255\, 255)\;">Brunch will be accompanied by chef demos\, beer pairings and coffee from True Coffee.&nbsp\;</span><br style="color: rgb(29\, 33\, 41)\; font-family: Helvetica\, Arial\, sans-serif\; font-size: 14px\; background-color: rgb(255\, 255\, 255)\;" />\n<br style="color: rgb(29\, 33\, 41)\; font-family: Helvetica\, Arial\, sans-serif\; font-size: 14px\; background-color: rgb(255\, 255\, 255)\;" />\n<span style="color: rgb(29\, 33\, 41)\; font-family: Helvetica\, Arial\, sans-serif\; font-size: 14px\; background-color: rgb(255\, 255\, 255)\;">And don&#39\;t miss the brewery tours\, with a discussion on Vintage Brewing Company&#39\;s history and process of brewing.</span>
LOCATION:Vintage Brewing Co. Sauk Prairie
UID:e.1184.20542
SEQUENCE:3
DTSTAMP:20260424T050736Z
URL:http://members.saukprairie.com/events/details/brewery-brunch-20542
END:VEVENT

END:VCALENDAR
