BEGIN:VCALENDAR
VERSION:2.0
PRODID:-//ChamberMaster//Event Calendar 2.0//EN
METHOD:PUBLISH
X-PUBLISHED-TTL:P3D
REFRESH-INTERVAL:P3D
CALSCALE:GREGORIAN
BEGIN:VEVENT
DTSTART:20231014T160000Z
DTEND:20231014T210000Z
X-MICROSOFT-CDO-ALLDAYEVENT:FALSE
SUMMARY:Brick-Stitch Hoops with Paige Skenadore
DESCRIPTION:Brick-Stitch Hoops with Paige Skenandore (Oneida Nation)\n\n590 Water St\, Prairie du Sac\, WI 53578\n\nSat\, Oct 14\, 2023 | 11 am   4 pm | Deadline to register: Oct 13\n\n$100 + $20 kit fee/person\n\nAll ages welcome!\n\n \n\nBeadwork is an expression of identity\, creativity\, and healing in indigenous communities. Beadwork is a traditional and contemporary art form. Come learn how to make beaded hoop earrings brick-stitch hoop technique!  This method consists of stacking beads and having them extend out from the hoop. This workshop will teach you how to make a pair of beaded brick-stitch hoop earrings from start to finish!\n\nIncluded in registration: Pair of hoops\; 1 needle\; bundles of thread\; (3) bead colors\; beeswax\n\nPaige Skenandore is a member of the Oneida Nation. She has been teaching beadwork for several years and runs a small business\, Moody NDN.
X-ALT-DESC;FMTTYPE=text/html:<h4>Brick-Stitch Hoops with Paige Skenandore (Oneida Nation)</h4>\n\n<p><strong>590 Water St\, Prairie du Sac\, WI 53578</strong></p>\n\n<p><strong>Sat\, Oct 14\, 2023 | 11 am &ndash\; 4 pm</strong>&nbsp\;| Deadline to register: Oct 13</p>\n\n<p><strong>$100 + $20 kit fee/person</strong></p>\n\n<p><strong>All ages welcome!</strong></p>\n\n<p>&nbsp\;</p>\n\n<p>Beadwork is an expression of identity\, creativity\, and healing in indigenous communities. Beadwork is a traditional and contemporary art form. Come learn how to make beaded hoop earrings brick-stitch hoop technique!&nbsp\; This method consists of stacking beads and having them extend out from the hoop. This workshop will teach you how to make a pair of beaded brick-stitch hoop earrings from start to finish!</p>\n\n<p><strong>Included in registration:</strong>&nbsp\;Pair of hoops\; 1 needle\; bundles of thread\; (3) bead colors\; beeswax</p>\n\n<p>Paige Skenandore is a member of the Oneida Nation. She has been teaching beadwork for several years and runs a small business\,&nbsp\;<a href="http://moodyndn.com/" style="padding: 0px\; margin: 0px\; color: rgb(193\, 193\, 204)\;">Moody NDN</a>.</p>\n
LOCATION:River Arts on Water Gallery. 590 Water Street\, Prairie du Sac\, WI\, 53578
UID:e.1184.30751
SEQUENCE:3
DTSTAMP:20260420T073604Z
URL:http://members.saukprairie.com/events/details/brick-stitch-hoops-with-paige-skenadore-30751
END:VEVENT

END:VCALENDAR
