BEGIN:VCALENDAR
VERSION:2.0
PRODID:-//ChamberMaster//Event Calendar 2.0//EN
METHOD:PUBLISH
X-PUBLISHED-TTL:P3D
REFRESH-INTERVAL:P3D
CALSCALE:GREGORIAN
BEGIN:VEVENT
DTSTART:20221214T220000Z
DTEND:20221215T000000Z
X-MICROSOFT-CDO-ALLDAYEVENT:FALSE
SUMMARY:BrightStar Care Holiday Open House
DESCRIPTION:Join BrightStar Care for their Holiday Open House\n\n\n\nHot Coca Bar Cookies
X-ALT-DESC;FMTTYPE=text/html:Join BrightStar Care for their Holiday Open House<br />\n<br />\nHot Coca Bar Cookies
LOCATION:507 Linn Street Suite B (upstairs) Baraboo\, WI 53913
UID:e.1184.29281
SEQUENCE:3
DTSTAMP:20260421T004231Z
URL:http://members.saukprairie.com/events/details/brightstar-care-holiday-open-house-29281
END:VEVENT

END:VCALENDAR
