BEGIN:VCALENDAR
VERSION:2.0
PRODID:-//ChamberMaster//Event Calendar 2.0//EN
METHOD:PUBLISH
X-PUBLISHED-TTL:P3D
REFRESH-INTERVAL:P3D
CALSCALE:GREGORIAN
BEGIN:VEVENT
DTSTART:20160526T180000Z
DTEND:20160526T190000Z
X-MICROSOFT-CDO-ALLDAYEVENT:FALSE
SUMMARY:Brown Bag Book Club
DESCRIPTION:May's Selection: Shotgun Lovesongs by Butler\n\nThe Brown Bag Book Club reads a variety of fiction and nonfiction. Readers can bring their own lunch and snack while we discuss this month's read. All are welcome. Please join us! Copies of the book are available at the library.
X-ALT-DESC;FMTTYPE=text/html:<div>\n<div>\n<div>\n<p><strong>May&rsquo\;s Selection:</strong> <span style="color:rgb(0\,0\,0)"><em>Shotgun Lovesongs </em>by Butler</span></p>\n\n<p>The Brown Bag Book Club reads a variety of fiction and nonfiction. Readers can bring their own lunch and snack while we discuss this month&rsquo\;s read. All are welcome. Please join us! Copies of the book are available at the library.</p>\n</div>\n</div>\n</div>\n
LOCATION:Sauk City Public Library 515 Water St. Sauk City\, WI
UID:e.1184.8461
SEQUENCE:3
DTSTAMP:20260426T020309Z
URL:http://members.saukprairie.com/events/details/brown-bag-book-club-05-26-2016-8461
END:VEVENT

END:VCALENDAR
