BEGIN:VCALENDAR
VERSION:2.0
PRODID:-//ChamberMaster//Event Calendar 2.0//EN
METHOD:PUBLISH
X-PUBLISHED-TTL:P3D
REFRESH-INTERVAL:P3D
CALSCALE:GREGORIAN
BEGIN:VEVENT
DTSTART:20220727T180000Z
DTEND:20220727T190000Z
X-MICROSOFT-CDO-ALLDAYEVENT:FALSE
SUMMARY:Bubble Wonders
DESCRIPTION:Join bubbleologist Geoff Akins as he explores the art and science of bubbles! Watch\, spellbound\, as he creates bubble caterpillars\, ice cream cones\, volcanos\, dancing bubbles\, and so much more!
X-ALT-DESC;FMTTYPE=text/html:Join bubbleologist Geoff Akins as he explores the art and science of bubbles! Watch\, spellbound\, as he creates bubble caterpillars\, ice cream cones\, volcanos\, dancing bubbles\, and so much more!
LOCATION:615 Phillips Blvd. Sauk City\, WI 53583
UID:e.1184.28170
SEQUENCE:3
DTSTAMP:20260421T090558Z
URL:http://members.saukprairie.com/events/details/bubble-wonders-28170
END:VEVENT

END:VCALENDAR
