BEGIN:VCALENDAR
VERSION:2.0
PRODID:-//ChamberMaster//Event Calendar 2.0//EN
METHOD:PUBLISH
X-PUBLISHED-TTL:P3D
REFRESH-INTERVAL:P3D
CALSCALE:GREGORIAN
BEGIN:VEVENT
DTSTART:20180912T163000Z
DTEND:20180912T180000Z
X-MICROSOFT-CDO-ALLDAYEVENT:FALSE
SUMMARY:Budgets\, Benefits & Review: Lunch-N-Learn: Performance Reviews
DESCRIPTION:Performance Reviews - making them meaningful\, useful and worthwhile\, presented by JoAnne Preston with Rural Wisconsin Health Cooperative.\n\n\n\nMany managers find themselves with a looming deadline to complete performance reviews without ever having had any training in the how and why of performance reviews. Often new managers rely only on having been a recipient of past reviews as a benchmark. Even if that experience was a great one\, it still doesn't give you all the tools you need when you are on the "other side of the desk." Performance reviews can either motivate\, or de-motivate\, employees. Regardless of what tools you currently use\, come for this discussion of making performance reviews more motivating and meaningful for your employees.
X-ALT-DESC;FMTTYPE=text/html:<span style="font-family:calibri\,sans-serif\;"><span style="font-size:11.0pt\;">Performance Reviews - making them meaningful\, useful and worthwhile\, presented by JoAnne Preston with Rural Wisconsin Health Cooperative.</span></span><br />\n<br />\nMany managers find themselves with a looming deadline to complete performance reviews without ever having had any training in the how and why of performance reviews. Often new managers rely only on having been a recipient of past reviews as a benchmark. Even if that experience was a great one\, it still doesn&rsquo\;t give you all the tools you need when you are on the &ldquo\;other side of the desk.&rdquo\; Performance reviews can either motivate\, or de-motivate\, employees. Regardless of what tools you currently use\, come for this discussion of making performance reviews more motivating and meaningful for your employees.
LOCATION:Compeer Financial 1430 North Ridge Drive Prairie du Sac\, WI 53578
UID:e.1184.14011
SEQUENCE:3
DTSTAMP:20260424T064150Z
URL:http://members.saukprairie.com/events/details/budgets-benefits-review-lunch-n-learn-performance-reviews-14011
END:VEVENT

END:VCALENDAR
