BEGIN:VCALENDAR
VERSION:2.0
PRODID:-//ChamberMaster//Event Calendar 2.0//EN
METHOD:PUBLISH
X-PUBLISHED-TTL:P3D
REFRESH-INTERVAL:P3D
CALSCALE:GREGORIAN
BEGIN:VEVENT
DTSTART:20180918T133000Z
DTEND:20180918T150000Z
X-MICROSOFT-CDO-ALLDAYEVENT:FALSE
SUMMARY:Budgets\, Benefits & Reviews: 3 Steps to a Profitable Business
DESCRIPTION:Breakfast Seminar: 3 Steps to a Profitable Business in 2019\, presented by Kari Apel w/Apel CPA's & Consultants
X-ALT-DESC;FMTTYPE=text/html:<strong><span style="font-family:times new roman\,serif\;"><span style="font-size:12.0pt\;">Breakfast Seminar: 3 Steps to a Profitable Business in 2019</span></span></strong><span style="font-family:times new roman\,serif\;"><span style="font-size:12.0pt\;">\, presented by Kari Apel w/Apel CPA&rsquo\;s &amp\; Consultants</span></span>
LOCATION:NEW LOCATION: Sauk Prairie Riverway Welcome Center 109 Phillips Blvd.\, Sauk City
UID:e.1184.18361
SEQUENCE:3
DTSTAMP:20260424T051759Z
URL:http://members.saukprairie.com/events/details/budgets-benefits-reviews-3-steps-to-a-profitable-business-18361
END:VEVENT

END:VCALENDAR
