BEGIN:VCALENDAR
VERSION:2.0
PRODID:-//ChamberMaster//Event Calendar 2.0//EN
METHOD:PUBLISH
X-PUBLISHED-TTL:P3D
REFRESH-INTERVAL:P3D
CALSCALE:GREGORIAN
BEGIN:VEVENT
DTSTART:20180925T133000Z
DTEND:20180925T150000Z
X-MICROSOFT-CDO-ALLDAYEVENT:FALSE
SUMMARY:Budgets\, Benefits & Reviews: Affordable Benefits
DESCRIPTION:Breakfast Seminar: Affordable Employee Benefits in 2019\, presented by Bill Hagen w/Aflac
X-ALT-DESC;FMTTYPE=text/html:<strong><span style="font-family:times new roman\,serif\;"><span style="font-size:12.0pt\;">Breakfast Seminar: Affordable Employee Benefits in 2019</span></span></strong><span style="font-family:times new roman\,serif\;"><span style="font-size:12.0pt\;">\, presented by Bill Hagen w/Aflac</span></span>
LOCATION:Compeer Financial
UID:e.1184.18362
SEQUENCE:3
DTSTAMP:20260424T051139Z
URL:http://members.saukprairie.com/events/details/budgets-benefits-reviews-affordable-benefits-18362
END:VEVENT

END:VCALENDAR
