BEGIN:VCALENDAR
VERSION:2.0
PRODID:-//ChamberMaster//Event Calendar 2.0//EN
METHOD:PUBLISH
X-PUBLISHED-TTL:P3D
REFRESH-INTERVAL:P3D
CALSCALE:GREGORIAN
BEGIN:VEVENT
DTSTART:20161021T160000Z
DTEND:20161022T000000Z
X-MICROSOFT-CDO-ALLDAYEVENT:FALSE
SUMMARY:Bug Tussel Internet Meet and Greet for Arena Area!!
DESCRIPTION:If you are considering purchasing Bug Tussel Wireless Internet Service\, our Meet & Greet Events are your opportunity to meet our team in a relaxed environment and learn about the services Bug Tussel offers in your area.\n\n\n\nSpecial Savings\n\nAs a new customer\, you will receive HALF PRICE activation when you sign up for a FREE site survey at one of our Meet and Greet events. Visit http://www.bugtusselwireless.com/meet-n-greet/ for details.\n\n\n\nSnacks will be provided! Be sure to enter our drawing for a $50 Gas Card!!
X-ALT-DESC;FMTTYPE=text/html:If you are considering purchasing Bug Tussel Wireless Internet Service\, our Meet &amp\; Greet Events are your opportunity to meet our team in a relaxed environment and learn about the services Bug Tussel offers in your area.<br />\n<br />\nSpecial Savings<br />\nAs a new customer\, you will receive HALF PRICE activation when you sign up for a FREE site survey at one of our Meet and Greet events. Visit <a href="http://www.bugtusselwireless.com/meet-n-greet/" rel="nofollow nofollow" target="_blank">http://www.bugtusselwireless.com/meet-n-greet/</a> for details.<br />\n<br />\nSnacks will be provided! Be sure to enter our drawing for a $50 Gas Card!!
LOCATION:Grandma Mary's Cafe 216 Highway 14 Arena\, WI 53503 608-753-2151
UID:e.1184.9384
SEQUENCE:3
DTSTAMP:20260425T174231Z
URL:http://members.saukprairie.com/events/details/bug-tussel-internet-meet-and-greet-for-arena-area-9384
END:VEVENT

END:VCALENDAR
