BEGIN:VCALENDAR
VERSION:2.0
PRODID:-//ChamberMaster//Event Calendar 2.0//EN
METHOD:PUBLISH
X-PUBLISHED-TTL:P3D
REFRESH-INTERVAL:P3D
CALSCALE:GREGORIAN
BEGIN:VEVENT
DTSTART:20170110T170000Z
DTEND:20170111T010000Z
X-MICROSOFT-CDO-ALLDAYEVENT:FALSE
SUMMARY:Bug Tussel Internet Meet and Greet for Highway 60 Tower in Sauk City Area!!
DESCRIPTION:If you are considering purchasing Bug Tussel Wireless Internet Service\, our Meet & Greet Events are your opportunity to meet our team in a relaxed environment and learn about the services Bug Tussel offers in your area.\n\n\n\nSpecial Savings\n\nAs a new customer\, you will receive HALF PRICE activation when you sign up for a FREE signal test at one of our Meet and Greet events. Visit http://www.bugtusselwireless.com/meet-n-greet/ for details.\n\n\n\nSnacks will be provided! Be sure to enter our drawing for a $50 Gas Card!!
X-ALT-DESC;FMTTYPE=text/html:If you are considering purchasing Bug Tussel Wireless Internet Service\, our Meet &amp\; Greet Events are your opportunity to meet our team in a relaxed environment and learn about the services Bug Tussel offers in your area.<br />\n<br />\nSpecial Savings<br />\nAs a new customer\, you will receive HALF PRICE activation when you sign up for a FREE signal test at one of our Meet and Greet events. Visit <a href="http://www.bugtusselwireless.com/meet-n-greet/" rel="nofollow nofollow" target="_blank">http://www.bugtusselwireless.com/meet-n-greet/</a> for details.<br />\n<br />\nSnacks will be provided! Be sure to enter our drawing for a $50 Gas Card!!
LOCATION:Pape's Fair Valley Inn E9708 State Road 60 Sauk City\, WI 53583
UID:e.1184.9496
SEQUENCE:3
DTSTAMP:20260425T125607Z
URL:http://members.saukprairie.com/events/details/bug-tussel-internet-meet-and-greet-for-highway-60-tower-in-sauk-city-area-9496
END:VEVENT

END:VCALENDAR
