BEGIN:VCALENDAR
VERSION:2.0
PRODID:-//ChamberMaster//Event Calendar 2.0//EN
METHOD:PUBLISH
X-PUBLISHED-TTL:P3D
REFRESH-INTERVAL:P3D
CALSCALE:GREGORIAN
BEGIN:VEVENT
DTSTART:20170712T180000Z
DTEND:20170712T190000Z
X-MICROSOFT-CDO-ALLDAYEVENT:FALSE
SUMMARY:Bilingual Storyteller
DESCRIPTION:Kay Elmsley Weeden will present bilingual stories centered around this year's Summer Reading theme "Build a Better World." \n\n\n\nCome and listen to fun\, lively\, and interactive stories blending English and Spanish.
X-ALT-DESC;FMTTYPE=text/html:<p><span style="color:rgb(33\, 33\, 33)\; font-family:arial\; font-size:11pt">Kay Elmsley Weeden will present bilingual stories centered around this year&rsquo\;s Summer Reading theme &ldquo\;Build a Better World.&quot\;</span><span style="color:rgb(0\, 0\, 0)\; font-family:arial\; font-size:11pt"> </span><br />\n<br />\n<span style="background-color:transparent\; color:rgb(0\, 0\, 0)\; font-family:arial\; font-size:11pt">Come and listen to fun\, lively\, and interactive stories blending English and Spanish.</span></p>\n\n<div>&nbsp\;</div>\n
LOCATION:515 Water Street Sauk City\, WI 53583 (608) 643-8346
UID:e.1184.11761
SEQUENCE:3
DTSTAMP:20260425T032908Z
URL:http://members.saukprairie.com/events/details/build-a-better-world-bilingual-storytime-11761
END:VEVENT

END:VCALENDAR
