BEGIN:VCALENDAR
VERSION:2.0
PRODID:-//ChamberMaster//Event Calendar 2.0//EN
METHOD:PUBLISH
X-PUBLISHED-TTL:P3D
REFRESH-INTERVAL:P3D
CALSCALE:GREGORIAN
BEGIN:VEVENT
DTSTART:20180716T180000Z
DTEND:20180716T190000Z
X-MICROSOFT-CDO-ALLDAYEVENT:FALSE
SUMMARY:Building Day
DESCRIPTION:Come and explore many ways to build and objects to build with at the Ruth Culver Community Library Monday\, July 16 at 1:00 p.m.  The event will include a snack and a drum that kids can take home! Appropriate for children in grades K-5. Contact Beth at 643-8318 with questions.
X-ALT-DESC;FMTTYPE=text/html:Come and explore many ways to build and objects to build with at the Ruth Culver Community Library Monday\, July 16 at 1:00 p.m.&nbsp\; The event will include a snack and a drum that kids can take home! Appropriate for children in grades K-5. Contact Beth at 643-8318 with questions.
LOCATION:Ruth Culver Community Library 540 Water Street\, Prairie du Sac
UID:e.1184.18118
SEQUENCE:3
DTSTAMP:20260424T082631Z
URL:http://members.saukprairie.com/events/details/building-day-07-16-2018-18118
END:VEVENT

END:VCALENDAR
