BEGIN:VCALENDAR
VERSION:2.0
PRODID:-//ChamberMaster//Event Calendar 2.0//EN
METHOD:PUBLISH
X-PUBLISHED-TTL:P3D
REFRESH-INTERVAL:P3D
CALSCALE:GREGORIAN
BEGIN:VEVENT
DTSTART:20180801T180000Z
DTEND:20180801T190000Z
X-MICROSOFT-CDO-ALLDAYEVENT:FALSE
SUMMARY:Building Days
DESCRIPTION:Put on your thinking cap and build various structures and inventions with the provided materials like cardboard and legos. Where will your mind take you?
X-ALT-DESC;FMTTYPE=text/html:Put on your thinking cap and build various structures and inventions with the provided materials like cardboard and legos. Where will your mind take you?
LOCATION:515 Water St\, Sauk City\, WI 53583
UID:e.1184.20461
SEQUENCE:3
DTSTAMP:20260424T063829Z
URL:http://members.saukprairie.com/events/details/building-days-20461
END:VEVENT

END:VCALENDAR
