BEGIN:VCALENDAR
VERSION:2.0
PRODID:-//ChamberMaster//Event Calendar 2.0//EN
METHOD:PUBLISH
X-PUBLISHED-TTL:P3D
REFRESH-INTERVAL:P3D
CALSCALE:GREGORIAN
BEGIN:VEVENT
DTSTART:20230106T010000Z
DTEND:20230106T023000Z
X-MICROSOFT-CDO-ALLDAYEVENT:FALSE
SUMMARY:Building wealth\, the Real Estate way
DESCRIPTION:If you always wanted to invest in Real Estate but never knew where to start\, we are offering a three part seminar to get you going. We are going to explain various ways in which you can build your and your family wealth through investing in real estate. Seminars  hosted in Sauk Prairie Chamber of Commerce. Please sign up on EventBrite to attend https://bit.ly/REinvestorseminar.
X-ALT-DESC;FMTTYPE=text/html:<p>If you always wanted to invest in Real Estate but never knew where to start\, we are offering a three part seminar to get you going. We are going to explain various ways in which you can build your and your family wealth through investing in real estate. Seminars&nbsp\; hosted in Sauk Prairie Chamber of Commerce. Please sign up on EventBrite to attend <a href="https://bit.ly/REinvestorseminar">https://bit.ly/REinvestorseminar.</a></p>\n
LOCATION:Sauk Prairie Chamber of Commerce 109 Phillips Boulevard Sauk City\, WI 53583
UID:e.1184.29277
SEQUENCE:3
DTSTAMP:20260420T233225Z
URL:http://members.saukprairie.com/events/details/building-wealth-the-real-estate-way-29277
END:VEVENT

END:VCALENDAR
