BEGIN:VCALENDAR
VERSION:2.0
PRODID:-//ChamberMaster//Event Calendar 2.0//EN
METHOD:PUBLISH
X-PUBLISHED-TTL:P3D
REFRESH-INTERVAL:P3D
CALSCALE:GREGORIAN
BEGIN:VEVENT
DTSTART:20181023T220000Z
DTEND:20181024T000000Z
X-MICROSOFT-CDO-ALLDAYEVENT:FALSE
SUMMARY:Business After 5: August Derleth
DESCRIPTION:Join the August Derleth Society for an Open House on October 23rd from 5-7pm. \n\n\n\nAppetizers of August Derleth's Favorite Foods!\n\n\n\nRsvp: derlethsociety@gmail.com
X-ALT-DESC;FMTTYPE=text/html:Join the August Derleth Society for an Open House on October 23rd from 5-7pm.&nbsp\;<br />\n<br />\nAppetizers of August Derleth&#39\;s Favorite Foods!<br />\n<br />\nRsvp: derlethsociety@gmail.com
LOCATION:300 Water St.\, Sauk City
UID:e.1184.20976
SEQUENCE:3
DTSTAMP:20260424T033647Z
URL:http://members.saukprairie.com/events/details/business-after-5-august-derleth-20976
END:VEVENT

END:VCALENDAR
