BEGIN:VCALENDAR
VERSION:2.0
PRODID:-//ChamberMaster//Event Calendar 2.0//EN
METHOD:PUBLISH
X-PUBLISHED-TTL:P3D
REFRESH-INTERVAL:P3D
CALSCALE:GREGORIAN
BEGIN:VEVENT
DTSTART:20191211T230000Z
DTEND:20191212T010000Z
X-MICROSOFT-CDO-ALLDAYEVENT:FALSE
SUMMARY:Business After 5 - Bank of Prairie du Sac
DESCRIPTION:Join us for a night of fun\, networking and relaxation!
X-ALT-DESC;FMTTYPE=text/html:Join us for a night of fun\, networking and relaxation!
LOCATION:555 Park Avenue Prairie du Sac
UID:e.1184.21534
SEQUENCE:3
DTSTAMP:20260423T070639Z
URL:http://members.saukprairie.com/events/details/business-after-5-bank-of-prairie-du-sac-21534
END:VEVENT

END:VCALENDAR
