BEGIN:VCALENDAR
VERSION:2.0
PRODID:-//ChamberMaster//Event Calendar 2.0//EN
METHOD:PUBLISH
X-PUBLISHED-TTL:P3D
REFRESH-INTERVAL:P3D
CALSCALE:GREGORIAN
BEGIN:VEVENT
DTSTART:20161201T230000Z
DTEND:20161202T010000Z
X-MICROSOFT-CDO-ALLDAYEVENT:FALSE
SUMMARY:Business After 5 - Bank of Prairie du Sac - December 1\, 2016
DESCRIPTION:Join us for a night of fun\, networking and relaxation!
X-ALT-DESC;FMTTYPE=text/html:Join us for a night of fun\, networking and relaxation!
LOCATION:
UID:e.1184.4657
SEQUENCE:3
DTSTAMP:20260425T142332Z
URL:http://members.saukprairie.com/events/details/business-after-5-bank-of-prairie-du-sac-december-1-2016-12-01-2016-4657
END:VEVENT

END:VCALENDAR
