BEGIN:VCALENDAR
VERSION:2.0
PRODID:-//ChamberMaster//Event Calendar 2.0//EN
METHOD:PUBLISH
X-PUBLISHED-TTL:P3D
REFRESH-INTERVAL:P3D
CALSCALE:GREGORIAN
BEGIN:VEVENT
DTSTART:20160615T220000Z
DTEND:20160616T000000Z
X-MICROSOFT-CDO-ALLDAYEVENT:FALSE
SUMMARY:Business After 5 - Dahl Financial Group & Sauk Prairie Community Bank - June 15\, 2016
DESCRIPTION:Join us for a night of fun\, networking and relaxation!
X-ALT-DESC;FMTTYPE=text/html:Join us for a night of fun\, networking and relaxation!
LOCATION:
UID:e.1184.4830
SEQUENCE:3
DTSTAMP:20260426T004224Z
URL:http://members.saukprairie.com/events/details/business-after-5-dahl-financial-group-sauk-prairie-community-bank-june-15-2016-06-15-2016-4830
END:VEVENT

END:VCALENDAR
