BEGIN:VCALENDAR
VERSION:2.0
PRODID:-//ChamberMaster//Event Calendar 2.0//EN
METHOD:PUBLISH
X-PUBLISHED-TTL:P3D
REFRESH-INTERVAL:P3D
CALSCALE:GREGORIAN
BEGIN:VEVENT
DTSTART:20191112T230000Z
DTEND:20191113T010000Z
X-MICROSOFT-CDO-ALLDAYEVENT:FALSE
SUMMARY:Business After 5 - Durwards Glen
DESCRIPTION:Join us for a night of fun\, networking and relaxation!
X-ALT-DESC;FMTTYPE=text/html:Join us for a night of fun\, networking and relaxation!
LOCATION:W11876 McLeisch Road Baraboo\, WI 53913
UID:e.1184.21532
SEQUENCE:3
DTSTAMP:20260423T083403Z
URL:http://members.saukprairie.com/events/details/business-after-5-durwards-glen-21532
END:VEVENT

END:VCALENDAR
