BEGIN:VCALENDAR
VERSION:2.0
PRODID:-//ChamberMaster//Event Calendar 2.0//EN
METHOD:PUBLISH
X-PUBLISHED-TTL:P3D
REFRESH-INTERVAL:P3D
CALSCALE:GREGORIAN
BEGIN:VEVENT
DTSTART:20211020T220000Z
DTEND:20211021T000000Z
X-MICROSOFT-CDO-ALLDAYEVENT:FALSE
SUMMARY:Business After 5 - Home by Hayley
DESCRIPTION:Join us for a night of fun\, networking and relaxation!
X-ALT-DESC;FMTTYPE=text/html:Join us for a night of fun\, networking and relaxation!
LOCATION:421 Water St #105 Prairie du Sac
UID:e.1184.26439
SEQUENCE:3
DTSTAMP:20260421T231111Z
URL:http://members.saukprairie.com/events/details/business-after-5-home-by-hayley-26439
END:VEVENT

END:VCALENDAR
