BEGIN:VCALENDAR
VERSION:2.0
PRODID:-//ChamberMaster//Event Calendar 2.0//EN
METHOD:PUBLISH
X-PUBLISHED-TTL:P3D
REFRESH-INTERVAL:P3D
CALSCALE:GREGORIAN
BEGIN:VEVENT
DTSTART:20180213T230000Z
DTEND:20180214T010000Z
X-MICROSOFT-CDO-ALLDAYEVENT:FALSE
SUMMARY:Business After 5 - Lake Wisconsin Country Club
DESCRIPTION:Join us for a night of fun\, networking and relaxation!
X-ALT-DESC;FMTTYPE=text/html:Join us for a night of fun\, networking and relaxation!
LOCATION:
UID:e.1184.14631
SEQUENCE:3
DTSTAMP:20260424T162216Z
URL:http://members.saukprairie.com/events/details/business-after-5-lake-wisconsin-country-club-14631
END:VEVENT

END:VCALENDAR
