BEGIN:VCALENDAR
VERSION:2.0
PRODID:-//ChamberMaster//Event Calendar 2.0//EN
METHOD:PUBLISH
X-PUBLISHED-TTL:P3D
REFRESH-INTERVAL:P3D
CALSCALE:GREGORIAN
BEGIN:VEVENT
DTSTART:20171114T230000Z
DTEND:20171115T010000Z
X-MICROSOFT-CDO-ALLDAYEVENT:FALSE
SUMMARY:Business After 5 - McFarlane Mfg. Co.\, Inc. - November 14
DESCRIPTION:Join us for a night of fun\, networking and relaxation!
X-ALT-DESC;FMTTYPE=text/html:Join us for a night of fun\, networking and relaxation!
LOCATION:McFarlane Mfg. Co.\, Inc. 1330 Dallas Street Sauk City\, WI 53583
UID:e.1184.11848
SEQUENCE:3
DTSTAMP:20260424T205624Z
URL:http://members.saukprairie.com/events/details/business-after-5-mcfarlane-mfg-co-inc-november-14-11848
END:VEVENT

END:VCALENDAR
