BEGIN:VCALENDAR
VERSION:2.0
PRODID:-//ChamberMaster//Event Calendar 2.0//EN
METHOD:PUBLISH
X-PUBLISHED-TTL:P3D
REFRESH-INTERVAL:P3D
CALSCALE:GREGORIAN
BEGIN:VEVENT
DTSTART:20190919T220000Z
DTEND:20190920T000000Z
X-MICROSOFT-CDO-ALLDAYEVENT:FALSE
SUMMARY:Business After 5 - Meyer Insurance - 100 Year Anniversary
DESCRIPTION:Edward Jones is celebrating their 10 year anniversary!\n\n\n\nJoin us for a night of fun\, networking and relaxation!
X-ALT-DESC;FMTTYPE=text/html:Edward Jones is celebrating their 10 year anniversary!<br />\n<br />\nJoin us for a night of fun\, networking and relaxation!
LOCATION:511 Phillips Blvd. Sauk City\, WI 53583
UID:e.1184.21530
SEQUENCE:3
DTSTAMP:20260423T113640Z
URL:http://members.saukprairie.com/events/details/business-after-5-meyer-insurance-100-year-anniversary-21530
END:VEVENT

END:VCALENDAR
