BEGIN:VCALENDAR
VERSION:2.0
PRODID:-//ChamberMaster//Event Calendar 2.0//EN
METHOD:PUBLISH
X-PUBLISHED-TTL:P3D
REFRESH-INTERVAL:P3D
CALSCALE:GREGORIAN
BEGIN:VEVENT
DTSTART:20211116T220000Z
DTEND:20211117T000000Z
X-MICROSOFT-CDO-ALLDAYEVENT:FALSE
SUMMARY:Business After 5 - Milwaukee Valve
DESCRIPTION:Join us for a night of fun\, networking and relaxation!\n\n\n\n*Masks are required.\n\n\n\nTours will be available 4PM | 4:20PM | 5PM | 5:20PM | 5:40PM\n\n*Must wear closed-toed shoes to do the tours
X-ALT-DESC;FMTTYPE=text/html:Join us for a night of fun\, networking and relaxation!<br />\n<br />\n*Masks are required.<br />\n<br />\nTours will be available&nbsp\;4PM | 4:20PM | 5PM | 5:20PM | 5:40PM<br />\n<em>*Must wear closed-toed shoes to do the tours&nbsp\;</em>
LOCATION:1075 Water Street Prairie du Sac
UID:e.1184.26917
SEQUENCE:3
DTSTAMP:20260421T202908Z
URL:http://members.saukprairie.com/events/details/business-after-5-milwaukee-valve-26917
END:VEVENT

END:VCALENDAR
