BEGIN:VCALENDAR
VERSION:2.0
PRODID:-//ChamberMaster//Event Calendar 2.0//EN
METHOD:PUBLISH
X-PUBLISHED-TTL:P3D
REFRESH-INTERVAL:P3D
CALSCALE:GREGORIAN
BEGIN:VEVENT
DTSTART:20210720T220000Z
DTEND:20210721T000000Z
X-MICROSOFT-CDO-ALLDAYEVENT:FALSE
SUMMARY:Business After 5 - Pathway to Wellness - 5 Year Celebration!
DESCRIPTION:Join us for a night of fun\, networking and relaxation!
X-ALT-DESC;FMTTYPE=text/html:Join us for a night of fun\, networking and relaxation!
LOCATION:560 4th Street Prairie du Sac
UID:e.1184.26432
SEQUENCE:3
DTSTAMP:20260422T021155Z
URL:http://members.saukprairie.com/events/details/business-after-5-pathway-to-wellness-5-year-celebration-26432
END:VEVENT

END:VCALENDAR
