BEGIN:VCALENDAR
VERSION:2.0
PRODID:-//ChamberMaster//Event Calendar 2.0//EN
METHOD:PUBLISH
X-PUBLISHED-TTL:P3D
REFRESH-INTERVAL:P3D
CALSCALE:GREGORIAN
BEGIN:VEVENT
DTSTART:20160830T220000Z
DTEND:20160831T000000Z
X-MICROSOFT-CDO-ALLDAYEVENT:FALSE
SUMMARY:Business After 5 - Prairie Clinic - August 30\, 2016
DESCRIPTION:Join us for a night of fun\, networking and relaxation!
X-ALT-DESC;FMTTYPE=text/html:Join us for a night of fun\, networking and relaxation!
LOCATION:
UID:e.1184.6921
SEQUENCE:3
DTSTAMP:20260425T210156Z
URL:http://members.saukprairie.com/events/details/business-after-5-prairie-clinic-august-30-2016-08-30-2016-6921
END:VEVENT

END:VCALENDAR
