BEGIN:VCALENDAR
VERSION:2.0
PRODID:-//ChamberMaster//Event Calendar 2.0//EN
METHOD:PUBLISH
X-PUBLISHED-TTL:P3D
REFRESH-INTERVAL:P3D
CALSCALE:GREGORIAN
BEGIN:VEVENT
DTSTART:20210915T220000Z
DTEND:20210916T000000Z
X-MICROSOFT-CDO-ALLDAYEVENT:FALSE
SUMMARY:Business After 5 - River Arts Inc.
DESCRIPTION:Join us for a night of fun\, networking and relaxation!
X-ALT-DESC;FMTTYPE=text/html:Join us for a night of fun\, networking and relaxation!
LOCATION:590 Water Street Prairie du Sac
UID:e.1184.26436
SEQUENCE:3
DTSTAMP:20260421T231104Z
URL:http://members.saukprairie.com/events/details/business-after-5-river-arts-inc-26436
END:VEVENT

END:VCALENDAR
