BEGIN:VCALENDAR
VERSION:2.0
PRODID:-//ChamberMaster//Event Calendar 2.0//EN
METHOD:PUBLISH
X-PUBLISHED-TTL:P3D
REFRESH-INTERVAL:P3D
CALSCALE:GREGORIAN
BEGIN:VEVENT
DTSTART:20210511T220000Z
DTEND:20210512T000000Z
X-MICROSOFT-CDO-ALLDAYEVENT:FALSE
SUMMARY:Business After 5 - Sauk City Volunteer Fire Department
DESCRIPTION:Join us for a night of fun\, networking and relaxation!
X-ALT-DESC;FMTTYPE=text/html:Join us for a night of fun\, networking and relaxation!
LOCATION:505 Van Buren St. Sauk City
UID:e.1184.26427
SEQUENCE:3
DTSTAMP:20260422T052137Z
URL:http://members.saukprairie.com/events/details/business-after-5-sauk-city-volunteer-fire-department-26427
END:VEVENT

END:VCALENDAR
