BEGIN:VCALENDAR
VERSION:2.0
PRODID:-//ChamberMaster//Event Calendar 2.0//EN
METHOD:PUBLISH
X-PUBLISHED-TTL:P3D
REFRESH-INTERVAL:P3D
CALSCALE:GREGORIAN
BEGIN:VEVENT
DTSTART:20190508T220000Z
DTEND:20190509T000000Z
X-MICROSOFT-CDO-ALLDAYEVENT:FALSE
SUMMARY:Business After 5 - Sauk Prairie Ambulance - 50 Year Anniversary
DESCRIPTION:Sauk Prairie Ambulance is celebrating their 50 year anniversary!\n\n\n\nJoin us for a night of fun\, networking and relaxation!
X-ALT-DESC;FMTTYPE=text/html:Sauk Prairie Ambulance is celebrating their 50 year anniversary!<br />\n<br />\nJoin us for a night of fun\, networking and relaxation!
LOCATION:470 Oak Street Prairie du Sac\, WI 53578
UID:e.1184.21517
SEQUENCE:3
DTSTAMP:20260423T171958Z
URL:http://members.saukprairie.com/events/details/business-after-5-sauk-prairie-ambulance-50-year-anniversary-21517
END:VEVENT

END:VCALENDAR
