BEGIN:VCALENDAR
VERSION:2.0
PRODID:-//ChamberMaster//Event Calendar 2.0//EN
METHOD:PUBLISH
X-PUBLISHED-TTL:P3D
REFRESH-INTERVAL:P3D
CALSCALE:GREGORIAN
BEGIN:VEVENT
DTSTART:20190417T220000Z
DTEND:20190418T000000Z
X-MICROSOFT-CDO-ALLDAYEVENT:FALSE
SUMMARY:Business After 5 - SP Fitness
DESCRIPTION:Join us for a night of fun\, networking and relaxation!
X-ALT-DESC;FMTTYPE=text/html:Join us for a night of fun\, networking and relaxation!
LOCATION:SP Fitness Sauk City\, WI 53583
UID:e.1184.22008
SEQUENCE:3
DTSTAMP:20260423T190004Z
URL:http://members.saukprairie.com/events/details/business-after-5-sp-fitness-22008
END:VEVENT

END:VCALENDAR
