BEGIN:VCALENDAR
VERSION:2.0
PRODID:-//ChamberMaster//Event Calendar 2.0//EN
METHOD:PUBLISH
X-PUBLISHED-TTL:P3D
REFRESH-INTERVAL:P3D
CALSCALE:GREGORIAN
BEGIN:VEVENT
DTSTART:20171024T220000Z
DTEND:20171025T000000Z
X-MICROSOFT-CDO-ALLDAYEVENT:FALSE
SUMMARY:Business After 5 - St. Vincent de Paul - October 24\, 2017
DESCRIPTION:Join us for a night of fun\, networking and relaxation!
X-ALT-DESC;FMTTYPE=text/html:Join us for a night of fun\, networking and relaxation!
LOCATION:St. Vincent de Paul 815 19th St\, Prairie Du Sac\, WI 53578
UID:e.1184.9767
SEQUENCE:3
DTSTAMP:20260425T000357Z
URL:http://members.saukprairie.com/events/details/business-after-5-st-vincent-de-paul-october-24-2017-9767
END:VEVENT

END:VCALENDAR
